BEGIN:VCALENDAR
VERSION:2.0
PRODID:-//Tukios.com/
BEGIN:VEVENT
UID:715e34d6-7bd8-42b0-918c-9832acb5b070@www.southerncremation97.com
DTSTAMP:20260423T205253Z
DTSTART:20260425T150000Z
DTEND:20260425T160000Z
SUMMARY:Visitation
DESCRIPTION:
URL:https://www.southerncremation97.com/obituaries/cal-payne
LOCATION: 803 Robert A Stalls Avenue  Carbondale IL 62901
GEO:37.7349595;-89.2105655
END:VEVENT
END:VCALENDAR