BEGIN:VCALENDAR
VERSION:2.0
PRODID:-//Tukios.com/
BEGIN:VEVENT
UID:0a1e054f-88fd-49af-a90d-fb56870a017b@www.southerncremation97.com
DTSTAMP:20260423T205513Z
DTSTART:20260425T160000Z
DTEND:20260425T170000Z
SUMMARY:Celebration of Life
DESCRIPTION:
URL:https://www.southerncremation97.com/obituaries/cal-payne
LOCATION: 803 Robert A Stalls Avenue  Carbondale IL 62901
GEO:37.7349595;-89.2105655
END:VEVENT
END:VCALENDAR