BEGIN:VCALENDAR
VERSION:2.0
PRODID:-//Tukios.com/
BEGIN:VEVENT
UID:410b4140-986a-4894-9f6b-4c576c113408@www.southerncremation97.com
DTSTAMP:20260423T205421Z
DTSTART:20260425
SUMMARY:Interment
DESCRIPTION:
URL:https://www.southerncremation97.com/obituaries/cal-payne
LOCATION: 1100 N Oakland Ave  Carbondale IL 62901
GEO:37.7407526;-89.2275903
END:VEVENT
END:VCALENDAR